BEGIN:VCALENDAR
VERSION:2.0
PRODID:-//Seattle Korean Cultural Center - ECPv6.15.11//NONSGML v1.0//EN
CALSCALE:GREGORIAN
METHOD:PUBLISH
X-ORIGINAL-URL:https://skccwa.org
X-WR-CALDESC:Events for Seattle Korean Cultural Center
REFRESH-INTERVAL;VALUE=DURATION:PT1H
X-Robots-Tag:noindex
X-PUBLISHED-TTL:PT1H
BEGIN:VTIMEZONE
TZID:America/Los_Angeles
BEGIN:DAYLIGHT
TZOFFSETFROM:-0800
TZOFFSETTO:-0700
TZNAME:PDT
DTSTART:20230312T100000
END:DAYLIGHT
BEGIN:STANDARD
TZOFFSETFROM:-0700
TZOFFSETTO:-0800
TZNAME:PST
DTSTART:20231105T090000
END:STANDARD
BEGIN:DAYLIGHT
TZOFFSETFROM:-0800
TZOFFSETTO:-0700
TZNAME:PDT
DTSTART:20240310T100000
END:DAYLIGHT
BEGIN:STANDARD
TZOFFSETFROM:-0700
TZOFFSETTO:-0800
TZNAME:PST
DTSTART:20241103T090000
END:STANDARD
BEGIN:DAYLIGHT
TZOFFSETFROM:-0800
TZOFFSETTO:-0700
TZNAME:PDT
DTSTART:20250309T100000
END:DAYLIGHT
BEGIN:STANDARD
TZOFFSETFROM:-0700
TZOFFSETTO:-0800
TZNAME:PST
DTSTART:20251102T090000
END:STANDARD
END:VTIMEZONE
BEGIN:VEVENT
DTSTART;VALUE=DATE:20240601
DTEND;VALUE=DATE:20250101
DTSTAMP:20260422T033017
CREATED:20240613T181920Z
LAST-MODIFIED:20240613T182019Z
UID:10855-1717200000-1735689599@skccwa.org
SUMMARY:Korean Traditional Dance
DESCRIPTION:매주 목요일
URL:https://skccwa.org/event/trad_dance_evnt/
LOCATION:Seattle Korean Culture Center\, 33110 Pacific Hwy S. #7\, Federal Way\, WA\, 98003\, United States
ATTACH;FMTTYPE=image/jpeg:https://skccwa.org/wp-content/uploads/2024/06/1-2.jpg
ORGANIZER;CN="%EC%8B%9C%EC%95%A0%ED%8B%80 %ED%95%9C%EA%B5%AD%EB%AC%B8%ED%99%94 %EC%84%BC%ED%84%B0":MAILTO:monica@skccwa.org
END:VEVENT
BEGIN:VEVENT
DTSTART;VALUE=DATE:20240601
DTEND;VALUE=DATE:20241202
DTSTAMP:20260422T033017
CREATED:20240607T182845Z
LAST-MODIFIED:20240613T181649Z
UID:10628-1717200000-1733097599@skccwa.org
SUMMARY:Guitar Class
DESCRIPTION:매주 화요일
URL:https://skccwa.org/event/guitar-class/
LOCATION:Seattle Korean Culture Center\, 33110 Pacific Hwy S. #7\, Federal Way\, WA\, 98003\, United States
ATTACH;FMTTYPE=image/jpeg:https://skccwa.org/wp-content/uploads/2024/06/1-5.jpg
ORGANIZER;CN="%EC%8B%9C%EC%95%A0%ED%8B%80 %ED%95%9C%EA%B5%AD%EB%AC%B8%ED%99%94 %EC%84%BC%ED%84%B0":MAILTO:monica@skccwa.org
END:VEVENT
BEGIN:VEVENT
DTSTART;TZID=America/Los_Angeles:20240427T140000
DTEND;TZID=America/Los_Angeles:20240427T160000
DTSTAMP:20260422T033017
CREATED:20240607T183753Z
LAST-MODIFIED:20240613T181520Z
UID:10639-1714226400-1714233600@skccwa.org
SUMMARY:Diabetes Seminar
DESCRIPTION:
URL:https://skccwa.org/event/diabetes-seminar/
LOCATION:Seattle Korean Culture Center\, 33110 Pacific Hwy S. #7\, Federal Way\, WA\, 98003\, United States
ATTACH;FMTTYPE=image/jpeg:https://skccwa.org/wp-content/uploads/2024/06/1-1.jpg
ORGANIZER;CN="%EC%8B%9C%EC%95%A0%ED%8B%80 %ED%95%9C%EA%B5%AD%EB%AC%B8%ED%99%94 %EC%84%BC%ED%84%B0":MAILTO:monica@skccwa.org
END:VEVENT
END:VCALENDAR